BEGIN:VCALENDAR
VERSION:2.0
PRODID:icalendar-ruby
CALSCALE:GREGORIAN
BEGIN:VTIMEZONE
TZID:America/Los_Angeles
BEGIN:DAYLIGHT
DTSTART:19700308T020000
TZOFFSETFROM:-0800
TZOFFSETTO:-0700
RRULE:FREQ=YEARLY;BYDAY=2SU;BYMONTH=3
TZNAME:PDT
END:DAYLIGHT
BEGIN:STANDARD
DTSTART:19701101T020000
TZOFFSETFROM:-0700
TZOFFSETTO:-0800
RRULE:FREQ=YEARLY;BYDAY=1SU;BYMONTH=11
TZNAME:PST
END:STANDARD
END:VTIMEZONE
BEGIN:VEVENT
DTSTAMP:20260424T152445Z
UID:a6fba39b-c8c8-4887-83be-5253a447634a
DTSTART:20260424T121000
DTEND:20260424T140000
SUMMARY:Workshop in Law\, Philosophy\, and Political Theory\nLinda Eggert\n
 Wrongs and Accidents: The Doctrine of Deontic Priority
END:VEVENT
BEGIN:VEVENT
DTSTAMP:20260424T152445Z
UID:19b61cda-3f1e-4d96-ad35-eef9ee95943d
DTSTART:20260427T161000
DTEND:20260427T170000
SUMMARY:Alfred Tarski Lectures\nGrigor Sargsyan\nGödel’s Program
END:VEVENT
BEGIN:VEVENT
DTSTAMP:20260424T152445Z
UID:5181cd11-7e36-4fdd-8f14-9387326c587e
DTSTART:20260429T161000
DTEND:20260429T170000
SUMMARY:Alfred Tarski Lectures\nGrigor Sargsyan\nThe Nairian Models Perspec
 tive
END:VEVENT
BEGIN:VEVENT
DTSTAMP:20260424T152445Z
UID:a23433a9-0a25-47c0-be98-b64dbddcc3cf
DTSTART:20260430T160000
DTEND:20260430T180000
SUMMARY:Philosophy Colloquium\nSharon Street\nIf Eternalism is True\, Where
  am I? Integrating the View from Here and Now with the View from Nowhere a
 nd Nowhen
END:VEVENT
BEGIN:VEVENT
DTSTAMP:20260424T152445Z
UID:14c38ce6-a92d-48b3-9a42-b1ef89dffb40
DTSTART:20260430T173000
DTEND:20260430T190000
SUMMARY:Hitchcock Lectures\nJules Gill-Peterson\nThe Constitutional Right t
 o Transition: Reconstruction and the Political History of Transphobia
END:VEVENT
BEGIN:VEVENT
DTSTAMP:20260424T152445Z
UID:43f69ed2-171e-49e4-aa6d-fc3288068dea
DTSTART:20260501T000000
DTEND:20260502T000000
SUMMARY:Conference\nHistory of Philosophy Society conference
END:VEVENT
BEGIN:VEVENT
DTSTAMP:20260424T152445Z
UID:6b37bf1a-0d73-4225-a23a-d62ad9db90f4
DTSTART:20260501T161000
DTEND:20260501T170000
SUMMARY:Alfred Tarski Lectures\nGrigor Sargsyan\nInner Models and the Power
 set Operation
END:VEVENT
BEGIN:VEVENT
DTSTAMP:20260424T152445Z
UID:5d9585c9-9c67-425b-a47d-ad1a34b36e1f
DTSTART:20260504T161000
DTEND:20260504T181500
SUMMARY:Tanner Lectures on Human Values\nChristopher Clark\nWhat is decisio
 n?
END:VEVENT
BEGIN:VEVENT
DTSTAMP:20260424T152445Z
UID:a585fe8f-d516-4b71-9491-0b3c2d5ce16c
DTSTART:20260505T161000
DTEND:20260505T181500
SUMMARY:Tanner Lectures on Human Values\nChristopher Clark\nThe Decision in
  history
END:VEVENT
BEGIN:VEVENT
DTSTAMP:20260424T152445Z
UID:5b57a374-285a-42f1-b399-719e403f0198
DTSTART:20260506T161000
DTEND:20260506T181500
SUMMARY:Tanner Lectures on Human Values\nChristopher Clark\nSeminar and Dis
 cussion
END:VEVENT
BEGIN:VEVENT
DTSTAMP:20260424T152445Z
UID:8387b4fa-0a49-46ec-b330-3d65694e8ca8
DTSTART:20260507T160000
DTEND:20260507T180000
SUMMARY:Professor Sarah Douglas Lectures on Philosophy and AI\nDavid Chalme
 rs\nWhat We Talk to When We Talk to Language Models
END:VEVENT
BEGIN:VEVENT
DTSTAMP:20260424T152445Z
UID:e08248fb-8b27-49bd-aeb6-34106ddf2834
DTSTART:20260508T161000
DTEND:20260508T170000
SUMMARY:Logic Colloquium\nLogic Colloquium in Honor of John Addison
END:VEVENT
BEGIN:VEVENT
DTSTAMP:20260424T152445Z
UID:461207da-3ce7-4b01-8146-47b839dca818
DTSTART:20260509T093000
DTEND:20260509T173000
SUMMARY:Conference\nCameron Buckner\, Rosa Cao\, Jonathan Simon\, David Cha
 lmers\nBerkeley AI workshop
END:VEVENT
BEGIN:VEVENT
DTSTAMP:20260424T152445Z
UID:16d73a1c-22ac-4432-be6a-b7b70274f190
DTSTART:20260516T160000
DTEND:20260516T180000
SUMMARY:Departmental Events\nPhilosophy Department Graduation
END:VEVENT
BEGIN:VEVENT
DTSTAMP:20260424T152445Z
UID:ef7e596b-d335-4e5a-9bbf-e05ca71fb6fa
DTSTART:20260527T090000
DTEND:20260527T173000
SUMMARY:Conference\nResponsibility at Planetary Scale: Ethics and Governanc
 e of Climate Intervention   
END:VEVENT
END:VCALENDAR
