BEGIN:VCALENDAR
VERSION:2.0
PRODID:icalendar-ruby
CALSCALE:GREGORIAN
BEGIN:VTIMEZONE
TZID:America/Los_Angeles
BEGIN:DAYLIGHT
DTSTART:19700308T020000
TZOFFSETFROM:-0800
TZOFFSETTO:-0700
RRULE:FREQ=YEARLY;BYDAY=2SU;BYMONTH=3
TZNAME:PDT
END:DAYLIGHT
BEGIN:STANDARD
DTSTART:19701101T020000
TZOFFSETFROM:-0700
TZOFFSETTO:-0800
RRULE:FREQ=YEARLY;BYDAY=1SU;BYMONTH=11
TZNAME:PST
END:STANDARD
END:VTIMEZONE
BEGIN:VEVENT
DTSTAMP:20260421T063645Z
UID:b18a79b7-a34d-4bfc-874b-1662efdbb9cb
DTSTART:20110318T110000
DTEND:20110318T130000
SUMMARY:Institute of Cognitive and Brain Sciences\nAmy Cook\nMathematical b
 lending and the staging of nothing in Shakespeare¹s Henry V
END:VEVENT
END:VCALENDAR
