BEGIN:VCALENDAR
VERSION:2.0
PRODID:icalendar-ruby
CALSCALE:GREGORIAN
BEGIN:VTIMEZONE
TZID:America/Los_Angeles
BEGIN:DAYLIGHT
DTSTART:19700308T020000
TZOFFSETFROM:-0800
TZOFFSETTO:-0700
RRULE:FREQ=YEARLY;BYDAY=2SU;BYMONTH=3
TZNAME:PDT
END:DAYLIGHT
BEGIN:STANDARD
DTSTART:19701101T020000
TZOFFSETFROM:-0700
TZOFFSETTO:-0800
RRULE:FREQ=YEARLY;BYDAY=1SU;BYMONTH=11
TZNAME:PST
END:STANDARD
END:VTIMEZONE
BEGIN:VEVENT
DTSTAMP:20260424T173042Z
UID:64d87ca1-8e90-4f93-b460-924b464bdba0
DTSTART:20260422T180000
DTEND:20260422T193000
SUMMARY:Working Group in the History and Philosophy of Logic\, Mathematics\
 , and Science\nJohan van Benthem\nIncompleteness for modal logics: What is
  at stake?
END:VEVENT
END:VCALENDAR
