BEGIN:VCALENDAR
VERSION:2.0
PRODID:icalendar-ruby
CALSCALE:GREGORIAN
BEGIN:VTIMEZONE
TZID:America/Los_Angeles
BEGIN:DAYLIGHT
DTSTART:19700308T020000
TZOFFSETFROM:-0800
TZOFFSETTO:-0700
RRULE:FREQ=YEARLY;BYDAY=2SU;BYMONTH=3
TZNAME:PDT
END:DAYLIGHT
BEGIN:STANDARD
DTSTART:19701101T020000
TZOFFSETFROM:-0700
TZOFFSETTO:-0800
RRULE:FREQ=YEARLY;BYDAY=1SU;BYMONTH=11
TZNAME:PST
END:STANDARD
END:VTIMEZONE
BEGIN:VEVENT
DTSTAMP:20260426T041225Z
UID:cf946133-0ad9-4f1e-a3da-7d705c9d0fcf
DTSTART:20260509T093000
DTEND:20260509T173000
SUMMARY:Conference\nCameron Buckner\, Rosa Cao\, Jonathan Simon\, David Cha
 lmers\nBerkeley AI workshop
END:VEVENT
END:VCALENDAR
