BEGIN:VCALENDAR
VERSION:2.0
PRODID:icalendar-ruby
CALSCALE:GREGORIAN
BEGIN:VTIMEZONE
TZID:America/Los_Angeles
BEGIN:DAYLIGHT
DTSTART:19700308T020000
TZOFFSETFROM:-0800
TZOFFSETTO:-0700
RRULE:FREQ=YEARLY;BYDAY=2SU;BYMONTH=3
TZNAME:PDT
END:DAYLIGHT
BEGIN:STANDARD
DTSTART:19701101T020000
TZOFFSETFROM:-0700
TZOFFSETTO:-0800
RRULE:FREQ=YEARLY;BYDAY=1SU;BYMONTH=11
TZNAME:PST
END:STANDARD
END:VTIMEZONE
BEGIN:VEVENT
DTSTAMP:20260421T063634Z
UID:d25c1da5-c1ac-4f34-8a30-eabb5f177786
DTSTART:20260326T090000
DTEND:20260327T180000
SUMMARY:Conference\nAsad Q. Ahmed\; Peter Adamson\; Husayn Ibrahim\; Evan G
 rennon\; John Ropoulos\; Hacan Genc\; Umar Sheikh Tahir\; Zain Alattar\; S
 hiraz Ali\; Nada Abdelsalaam\nIslamic Philosophy in the Margins
END:VEVENT
END:VCALENDAR
