BEGIN:VCALENDAR
VERSION:2.0
PRODID:icalendar-ruby
CALSCALE:GREGORIAN
BEGIN:VTIMEZONE
TZID:America/Los_Angeles
BEGIN:DAYLIGHT
DTSTART:19700308T020000
TZOFFSETFROM:-0800
TZOFFSETTO:-0700
RRULE:FREQ=YEARLY;BYDAY=2SU;BYMONTH=3
TZNAME:PDT
END:DAYLIGHT
BEGIN:STANDARD
DTSTART:19701101T020000
TZOFFSETFROM:-0700
TZOFFSETTO:-0800
RRULE:FREQ=YEARLY;BYDAY=1SU;BYMONTH=11
TZNAME:PST
END:STANDARD
END:VTIMEZONE
BEGIN:VEVENT
DTSTAMP:20260421T030817Z
UID:242d7d72-c1f3-405b-9a79-bfbbfa77cf5f
DTSTART:20260212T160000
DTEND:20260212T180000
SUMMARY:Philosophy Colloquium\nAmy Levine\nFinitude as Interpretive Depende
 nce in Kierkegaard’s The Concept of Anxiety
END:VEVENT
END:VCALENDAR
