BEGIN:VCALENDAR
VERSION:2.0
PRODID:icalendar-ruby
CALSCALE:GREGORIAN
BEGIN:VTIMEZONE
TZID:America/Los_Angeles
BEGIN:DAYLIGHT
DTSTART:19700308T020000
TZOFFSETFROM:-0800
TZOFFSETTO:-0700
RRULE:FREQ=YEARLY;BYDAY=2SU;BYMONTH=3
TZNAME:PDT
END:DAYLIGHT
BEGIN:STANDARD
DTSTART:19701101T020000
TZOFFSETFROM:-0700
TZOFFSETTO:-0800
RRULE:FREQ=YEARLY;BYDAY=1SU;BYMONTH=11
TZNAME:PST
END:STANDARD
END:VTIMEZONE
BEGIN:VEVENT
DTSTAMP:20260422T113325Z
UID:db574d36-be65-403c-bc64-8e07c84f5526
DTSTART:20251003T120000
DTEND:20251003T140000
SUMMARY:Workshop in Law\, Philosophy\, and Political Theory\nSeana Shiffrin
 \nJumping to Conclusions: Free Speech and Imputed Speech
END:VEVENT
END:VCALENDAR
