BEGIN:VCALENDAR
VERSION:2.0
PRODID:icalendar-ruby
CALSCALE:GREGORIAN
BEGIN:VTIMEZONE
TZID:America/Los_Angeles
BEGIN:DAYLIGHT
DTSTART:19700308T020000
TZOFFSETFROM:-0800
TZOFFSETTO:-0700
RRULE:FREQ=YEARLY;BYDAY=2SU;BYMONTH=3
TZNAME:PDT
END:DAYLIGHT
BEGIN:STANDARD
DTSTART:19701101T020000
TZOFFSETFROM:-0700
TZOFFSETTO:-0800
RRULE:FREQ=YEARLY;BYDAY=1SU;BYMONTH=11
TZNAME:PST
END:STANDARD
END:VTIMEZONE
BEGIN:VEVENT
DTSTAMP:20260423T080258Z
UID:99459981-956c-4467-93d5-3e9e6cafc6af
DTSTART:20260430T160000
DTEND:20260430T180000
SUMMARY:Philosophy Colloquium\nSharon Street\nIf Eternalism is True\, Where
  am I? Integrating the View from Here and Now with the View from Nowhere a
 nd Nowhen
END:VEVENT
END:VCALENDAR
