BEGIN:VCALENDAR
VERSION:2.0
PRODID:icalendar-ruby
CALSCALE:GREGORIAN
BEGIN:VTIMEZONE
TZID:America/Los_Angeles
BEGIN:DAYLIGHT
DTSTART:19700308T020000
TZOFFSETFROM:-0800
TZOFFSETTO:-0700
RRULE:FREQ=YEARLY;BYDAY=2SU;BYMONTH=3
TZNAME:PDT
END:DAYLIGHT
BEGIN:STANDARD
DTSTART:19701101T020000
TZOFFSETFROM:-0700
TZOFFSETTO:-0800
RRULE:FREQ=YEARLY;BYDAY=1SU;BYMONTH=11
TZNAME:PST
END:STANDARD
END:VTIMEZONE
BEGIN:VEVENT
DTSTAMP:20260421T115343Z
UID:1a0bbf2d-94b6-4073-b0cd-7164ea1afe07
DTSTART:20250414T160000
DTEND:20250414T170000
SUMMARY:Alfred Tarski Lectures\nJeremy Avigad\nEuclid’s *Elements* and Di
 agrammatic Reasoning in Geometry
END:VEVENT
END:VCALENDAR
