BEGIN:VCALENDAR
VERSION:2.0
PRODID:icalendar-ruby
CALSCALE:GREGORIAN
BEGIN:VTIMEZONE
TZID:America/Los_Angeles
BEGIN:DAYLIGHT
DTSTART:19700308T020000
TZOFFSETFROM:-0800
TZOFFSETTO:-0700
RRULE:FREQ=YEARLY;BYDAY=2SU;BYMONTH=3
TZNAME:PDT
END:DAYLIGHT
BEGIN:STANDARD
DTSTART:19701101T020000
TZOFFSETFROM:-0700
TZOFFSETTO:-0800
RRULE:FREQ=YEARLY;BYDAY=1SU;BYMONTH=11
TZNAME:PST
END:STANDARD
END:VTIMEZONE
BEGIN:VEVENT
DTSTAMP:20260420T144041Z
UID:903e3886-136a-4d64-a89c-9d4cf9be3b7d
DTSTART:20250315T130000
DTEND:20250315T150000
SUMMARY:Sather Lecture\nJosiah Ober\nCleverness Revisited: Why wicked and e
 xcellent people are called deinoi (Aristotle NE 1144a21-22)
END:VEVENT
END:VCALENDAR
